BEGIN:VCALENDAR
VERSION:2.0
PRODID:-//Plone.org//NONSGML plone.app.event//EN
X-WR-TIMEZONE:US/Central
BEGIN:VEVENT
SUMMARY:Lake Hike
DTSTART;TZID=US/Central;VALUE=DATE-TIME:20240106T090000
DTEND;TZID=US/Central;VALUE=DATE-TIME:20240106T110000
DTSTAMP;VALUE=DATE-TIME:20260420T201503Z
UID:94601f1d8f87466bae56f2d0f0c30f44
RRULE:FREQ=MONTHLY;UNTIL=20251206T000000;BYDAY=+1SA
EXDATE;TZID=US/Central:20221001T000000,20221203T000000,20230107T000000
CONTACT:Johnathan Bell\, (325) 572-3204\, johnathan.bell@tpwd.texas.gov\, 
 http://txmn.org/bc
CREATED;VALUE=DATE-TIME:20190110T193447Z
DESCRIPTION:Get outside\, get fit!
LAST-MODIFIED;VALUE=DATE-TIME:20250314T152206Z
URL:https://tpwd.texas.gov/calendar/abilene/copy3_of_first-day-fitness-hik
 e
END:VEVENT
BEGIN:VTIMEZONE
TZID:US/Central
X-LIC-LOCATION:US/Central
BEGIN:STANDARD
DTSTART;VALUE=DATE-TIME:20231105T010000
TZNAME:CST
TZOFFSETFROM:-0500
TZOFFSETTO:-0600
END:STANDARD
END:VTIMEZONE
END:VCALENDAR
