BEGIN:VCALENDAR
VERSION:2.0
PRODID:-//Plone.org//NONSGML plone.app.event//EN
X-WR-TIMEZONE:US/Central
BEGIN:VEVENT
SUMMARY:Cooking on the Dance Floor
DTSTART;TZID=US/Central;VALUE=DATE-TIME:20240914T090000
DTEND;TZID=US/Central;VALUE=DATE-TIME:20240914T120000
DTSTAMP;VALUE=DATE-TIME:20260420T075334Z
UID:3b6490198d214f5f916490b24d63d924
CONTACT:Candyce Johnson\, (325) 267-4871\, candyce.johnson@tpwd.texas.gov
CREATED;VALUE=DATE-TIME:20231106T201616Z
DESCRIPTION:Learn how to cook the old-fashioned way!
LAST-MODIFIED;VALUE=DATE-TIME:20240509T214114Z
URL:https://tpwd.texas.gov/calendar/abilene/copy_of_dutch-oven-cooking/202
 4-09-14
END:VEVENT
BEGIN:VTIMEZONE
TZID:US/Central
X-LIC-LOCATION:US/Central
BEGIN:DAYLIGHT
DTSTART;VALUE=DATE-TIME:20240310T030000
TZNAME:CDT
TZOFFSETFROM:-0600
TZOFFSETTO:-0500
END:DAYLIGHT
END:VTIMEZONE
END:VCALENDAR
