BEGIN:VCALENDAR
VERSION:2.0
PRODID:-//Plone.org//NONSGML plone.app.event//EN
X-WR-TIMEZONE:US/Central
BEGIN:VEVENT
SUMMARY:Star Party with Stephen Hummel (Deep Dives)
DTSTART;TZID=US/Central;VALUE=DATE-TIME:20250719T213000
DTEND;TZID=US/Central;VALUE=DATE-TIME:20250719T223000
DTSTAMP;VALUE=DATE-TIME:20260420T082953Z
UID:0a0ea44a169e47279390bb5476aa469d
CONTACT:Emily Dickerson\, (432) 375-2370\, emily.dickerson@tpwd.texas.gov
CREATED;VALUE=DATE-TIME:20250713T230421Z
DESCRIPTION:Take a tour through the summer stars!
LAST-MODIFIED;VALUE=DATE-TIME:20250713T230705Z
URL:https://tpwd.texas.gov/calendar/balmorhea/star-party-with-stephen-humm
 el-deep-dives-1
END:VEVENT
BEGIN:VTIMEZONE
TZID:US/Central
X-LIC-LOCATION:US/Central
BEGIN:DAYLIGHT
DTSTART;VALUE=DATE-TIME:20250309T030000
TZNAME:CDT
TZOFFSETFROM:-0600
TZOFFSETTO:-0500
END:DAYLIGHT
END:VTIMEZONE
END:VCALENDAR
