BEGIN:VCALENDAR
VERSION:2.0
PRODID:-//Plone.org//NONSGML plone.app.event//EN
X-WR-TIMEZONE:US/Central
BEGIN:VEVENT
SUMMARY:Star Party in the Borderlands *Reservations Required*
DTSTART;TZID=US/Central;VALUE=DATE-TIME:20260117T183000
DTSTAMP;VALUE=DATE-TIME:20260420T062032Z
UID:68d477afa17f422fb80f3f99b5e9078a
CONTACT:Omar Udave\, (432) 424-3327\, x2\, omar.udave@tpwd.texas.gov
CREATED;VALUE=DATE-TIME:20250628T154908Z
DESCRIPTION:The stars at night are big and bright✨✨✨! Join park rang
 ers on a tour across our galactic neighborhood.
LAST-MODIFIED;VALUE=DATE-TIME:20250923T145631Z
URL:https://tpwd.texas.gov/calendar/barton-warnock/copy5_of_star-party-in-
 the-borderlands-reservations-required
END:VEVENT
BEGIN:VTIMEZONE
TZID:US/Central
X-LIC-LOCATION:US/Central
BEGIN:STANDARD
DTSTART;VALUE=DATE-TIME:20251102T010000
TZNAME:CST
TZOFFSETFROM:-0500
TZOFFSETTO:-0600
END:STANDARD
END:VTIMEZONE
END:VCALENDAR
