BEGIN:VCALENDAR
VERSION:2.0
PRODID:-//Plone.org//NONSGML plone.app.event//EN
X-WR-TIMEZONE:US/Central
BEGIN:VEVENT
SUMMARY:Refrescos with a Ranger: Dark Sky Conservation
DTSTART;TZID=US/Central;VALUE=DATE-TIME:20251023T110000
DTEND;TZID=US/Central;VALUE=DATE-TIME:20251023T130000
DTSTAMP;VALUE=DATE-TIME:20260419T175251Z
UID:d08312975d6940c2b523652016643eb4
CONTACT:Omar Udave\, (432) 424-3327\, x2\, omar.udave@tpwd.texas.gov
CREATED;VALUE=DATE-TIME:20250917T162046Z
DESCRIPTION:Join Ranger Omar to learn about our efforts to keep the skies 
 dark while enjoying a refreshing drink.
LAST-MODIFIED;VALUE=DATE-TIME:20250918T132849Z
URL:https://tpwd.texas.gov/calendar/barton-warnock/refrescos-with-a-ranger
 -our-nearest-star
END:VEVENT
BEGIN:VTIMEZONE
TZID:US/Central
X-LIC-LOCATION:US/Central
BEGIN:DAYLIGHT
DTSTART;VALUE=DATE-TIME:20250309T030000
TZNAME:CDT
TZOFFSETFROM:-0600
TZOFFSETTO:-0500
END:DAYLIGHT
END:VTIMEZONE
END:VCALENDAR
