BEGIN:VCALENDAR
VERSION:2.0
PRODID:-//Plone.org//NONSGML plone.app.event//EN
X-WR-TIMEZONE:US/Central
BEGIN:VEVENT
SUMMARY:Fire Through Our Forest - Guided Hike
DTSTART;TZID=US/Central;VALUE=DATE-TIME:20260321T100000
DTEND;TZID=US/Central;VALUE=DATE-TIME:20260321T113000
DTSTAMP;VALUE=DATE-TIME:20260420T014527Z
UID:c0a1171a24e947c696f7dd3c223cb268
RRULE:FREQ=MONTHLY;COUNT=1;BYDAY=+3SA
RDATE;TZID=US/Central:20260425T000000,20260523T000000
CONTACT:Madalyn Miller\, madalyn.miller@tpwd.texas.gov
CREATED;VALUE=DATE-TIME:20240216T162602Z
DESCRIPTION:Fire in the woods is natural and necessary find out how and wh
 y on this guided hike.
LAST-MODIFIED;VALUE=DATE-TIME:20260306T222452Z
URL:https://tpwd.texas.gov/calendar/bastrop/fire-in-the-woods-guided-hike
END:VEVENT
BEGIN:VTIMEZONE
TZID:US/Central
X-LIC-LOCATION:US/Central
BEGIN:DAYLIGHT
DTSTART;VALUE=DATE-TIME:20260308T030000
TZNAME:CDT
TZOFFSETFROM:-0600
TZOFFSETTO:-0500
END:DAYLIGHT
END:VTIMEZONE
END:VCALENDAR
