BEGIN:VCALENDAR
VERSION:2.0
PRODID:-//Plone.org//NONSGML plone.app.event//EN
X-WR-TIMEZONE:US/Central
BEGIN:VEVENT
SUMMARY:Interpretive Center Open - Bastrop State Park
DTSTART;TZID=US/Central;VALUE=DATE-TIME:20260323T083000
DTEND;TZID=US/Central;VALUE=DATE-TIME:20260323T123000
DTSTAMP;VALUE=DATE-TIME:20260420T071627Z
UID:34f67087e6e94c20a75108d1a0387088
RRULE:FREQ=WEEKLY;COUNT=2;BYDAY=MO
RDATE;TZID=US/Central:20260413T000000,20260427T000000
EXDATE;TZID=US/Central:20260228T000000
CONTACT:Madalyn Miller\, madalyn.miller@tpwd.texas.gov
CREATED;VALUE=DATE-TIME:20251231T180003Z
DESCRIPTION:Be some of the first to experience our brand new educational e
 xhibits in our new Interpretive Center located inside the Historic Golf Sh
 elter!
LAST-MODIFIED;VALUE=DATE-TIME:20260402T135206Z
URL:https://tpwd.texas.gov/calendar/bastrop/historic-golf-shelter-interpre
 tive-center-open
END:VEVENT
BEGIN:VTIMEZONE
TZID:US/Central
X-LIC-LOCATION:US/Central
BEGIN:DAYLIGHT
DTSTART;VALUE=DATE-TIME:20260308T030000
TZNAME:CDT
TZOFFSETFROM:-0600
TZOFFSETTO:-0500
END:DAYLIGHT
END:VTIMEZONE
END:VCALENDAR
