BEGIN:VCALENDAR
VERSION:2.0
PRODID:-//Plone.org//NONSGML plone.app.event//EN
X-WR-TIMEZONE:US/Central
BEGIN:VEVENT
SUMMARY:Lost Pines Wildlife -Skins and Skulls
DTSTART;TZID=US/Central;VALUE=DATE-TIME:20251227T140000
DTEND;TZID=US/Central;VALUE=DATE-TIME:20251227T153000
DTSTAMP;VALUE=DATE-TIME:20260420T172251Z
UID:05b43dcc60df4b219de697171231cbdc
CONTACT:Madalyn Miller\, madalyn.miller@tpwd.texas.gov
CREATED;VALUE=DATE-TIME:20190309T222106Z
DESCRIPTION:Who calls this park home and what might you see while staying 
 here?  Touch\, feel\, and find your way to the answers.
LAST-MODIFIED;VALUE=DATE-TIME:20251204T210131Z
URL:https://tpwd.texas.gov/calendar/bastrop/skin-skulls-and-tracks-ask-a-r
 anger
END:VEVENT
BEGIN:VTIMEZONE
TZID:US/Central
X-LIC-LOCATION:US/Central
BEGIN:STANDARD
DTSTART;VALUE=DATE-TIME:20251102T010000
TZNAME:CST
TZOFFSETFROM:-0500
TZOFFSETTO:-0600
END:STANDARD
END:VTIMEZONE
END:VCALENDAR
