BEGIN:VCALENDAR
VERSION:2.0
PRODID:-//Plone.org//NONSGML plone.app.event//EN
X-WR-TIMEZONE:US/Central
BEGIN:VEVENT
SUMMARY:Twitterpated for Tweeters:  Birding Walk
DTSTART;TZID=US/Central;VALUE=DATE-TIME:20260214T100000
DTEND;TZID=US/Central;VALUE=DATE-TIME:20260214T113000
DTSTAMP;VALUE=DATE-TIME:20260420T065624Z
UID:b7762054d61d40b7aa8e3a91c7c65b2a
CONTACT:Madalyn Miller\, madalyn.miller@tpwd.texas.gov
CREATED;VALUE=DATE-TIME:20200214T214239Z
DESCRIPTION:Fall in love with birding! Start a new hobby with your love-bi
 rd or find your new love-bird by starting a new hobby!
LAST-MODIFIED;VALUE=DATE-TIME:20260206T221530Z
URL:https://tpwd.texas.gov/calendar/bastrop/twitterpated-for-tweeters-bird
 ing-walk
END:VEVENT
BEGIN:VTIMEZONE
TZID:US/Central
X-LIC-LOCATION:US/Central
BEGIN:STANDARD
DTSTART;VALUE=DATE-TIME:20251102T010000
TZNAME:CST
TZOFFSETFROM:-0500
TZOFFSETTO:-0600
END:STANDARD
END:VTIMEZONE
END:VCALENDAR
