BEGIN:VCALENDAR
VERSION:2.0
PRODID:-//Plone.org//NONSGML plone.app.event//EN
X-WR-TIMEZONE:US/Central
BEGIN:VEVENT
SUMMARY:Fire Through Our Forest – Guided Hike
DTSTART;TZID=US/Central;VALUE=DATE-TIME:20260317T100000
DTEND;TZID=US/Central;VALUE=DATE-TIME:20260317T113000
DTSTAMP;VALUE=DATE-TIME:20260420T193949Z
UID:156302efdd0a4d22ae3df3fd0cc11294
CONTACT:Madalyn Miller\, madalyn.miller@tpwd.texas.gov
CREATED;VALUE=DATE-TIME:20240202T212825Z
DESCRIPTION:Join a ranger on a guided hike through the Lost Pines and lear
 n all it has to tell!
LAST-MODIFIED;VALUE=DATE-TIME:20260313T225002Z
URL:https://tpwd.texas.gov/calendar/bastrop/welcome-to-the-lost-pines-2013
 -guided-hike
END:VEVENT
BEGIN:VTIMEZONE
TZID:US/Central
X-LIC-LOCATION:US/Central
BEGIN:DAYLIGHT
DTSTART;VALUE=DATE-TIME:20260308T030000
TZNAME:CDT
TZOFFSETFROM:-0600
TZOFFSETTO:-0500
END:DAYLIGHT
END:VTIMEZONE
END:VCALENDAR
