BEGIN:VCALENDAR
VERSION:2.0
PRODID:-//Plone.org//NONSGML plone.app.event//EN
X-WR-TIMEZONE:US/Central
BEGIN:VEVENT
SUMMARY:Birding 101
DTSTART;TZID=US/Central;VALUE=DATE-TIME:20251213T090000
DTEND;TZID=US/Central;VALUE=DATE-TIME:20251213T100000
DTSTAMP;VALUE=DATE-TIME:20260420T175326Z
UID:0b71521ef76f42b1aac2ab3711f2eb86
RRULE:FREQ=DAILY;COUNT=1
RDATE;TZID=US/Central:20221202T000000,20230127T000000,20230316T000000
CONTACT:Lynette Castillo\, (956) 584-9156\, x 235\, lynette.castillo@tpwd.
 texas.gov
CREATED;VALUE=DATE-TIME:20211221T160525Z
DESCRIPTION:Learn the basics of birding and what makes birdwatching such a
  popular hobby.  No experience required!
LAST-MODIFIED;VALUE=DATE-TIME:20251202T182453Z
URL:https://tpwd.texas.gov/calendar/bentsen-rio-grande-valley/copy_of_bird
 ing-101
END:VEVENT
BEGIN:VTIMEZONE
TZID:US/Central
X-LIC-LOCATION:US/Central
BEGIN:STANDARD
DTSTART;VALUE=DATE-TIME:20251102T010000
TZNAME:CST
TZOFFSETFROM:-0500
TZOFFSETTO:-0600
END:STANDARD
END:VTIMEZONE
END:VCALENDAR
