BEGIN:VCALENDAR
VERSION:2.0
PRODID:-//Plone.org//NONSGML plone.app.event//EN
X-WR-TIMEZONE:US/Central
BEGIN:VEVENT
SUMMARY:Hawk ID Workshop
DTSTART;TZID=US/Central;VALUE=DATE-TIME:20250831T130000
DTEND;TZID=US/Central;VALUE=DATE-TIME:20250831T160000
DTSTAMP;VALUE=DATE-TIME:20260420T070029Z
UID:cadd963207f046de9d9aa7f9f8c1ca5e
CONTACT:Roy Rodriguez\, (956) 584-9156\, x228\, roy.rodriguez@tpwd.texas.g
 ov\, https://www.hmana.org/
CREATED;VALUE=DATE-TIME:20210731T191404Z
DESCRIPTION:Get all the tips\, tricks\, and more to identify the hawk-fill
 ed skies this migration season.
LAST-MODIFIED;VALUE=DATE-TIME:20250723T171036Z
URL:https://tpwd.texas.gov/calendar/bentsen-rio-grande-valley/hawk-id-work
 shop-1
END:VEVENT
BEGIN:VTIMEZONE
TZID:US/Central
X-LIC-LOCATION:US/Central
BEGIN:DAYLIGHT
DTSTART;VALUE=DATE-TIME:20250309T030000
TZNAME:CDT
TZOFFSETFROM:-0600
TZOFFSETTO:-0500
END:DAYLIGHT
END:VTIMEZONE
END:VCALENDAR
