BEGIN:VCALENDAR
VERSION:2.0
PRODID:-//Plone.org//NONSGML plone.app.event//EN
X-WR-TIMEZONE:US/Central
BEGIN:VEVENT
SUMMARY:Hawk Watch
DTSTART;TZID=US/Central;VALUE=DATE-TIME:20260416T090000
DTEND;TZID=US/Central;VALUE=DATE-TIME:20260416T110000
DTSTAMP;VALUE=DATE-TIME:20260420T103357Z
UID:9301de87c2e54c18b9668be1a2e7d46e
CONTACT:Roy J Rodriguez\, (956) 584-9156\, x228\, roy.rodriguez@tpwd.texas
 .gov\, https://www.hmana.org/
CREATED;VALUE=DATE-TIME:20160307T184004Z
DESCRIPTION:Using keen eyesight\, binoculars and spotting scopes\, watch i
 n awe and help keep count of the many raptors flying over as they continue
  their migration.
LAST-MODIFIED;VALUE=DATE-TIME:20260205T195150Z
URL:https://tpwd.texas.gov/calendar/bentsen-rio-grande-valley/reusableprog
 rams/spring-hawk-watch/2026-04-16
END:VEVENT
BEGIN:VTIMEZONE
TZID:US/Central
X-LIC-LOCATION:US/Central
BEGIN:DAYLIGHT
DTSTART;VALUE=DATE-TIME:20260308T030000
TZNAME:CDT
TZOFFSETFROM:-0600
TZOFFSETTO:-0500
END:DAYLIGHT
END:VTIMEZONE
END:VCALENDAR
