BEGIN:VCALENDAR
VERSION:2.0
PRODID:-//Plone.org//NONSGML plone.app.event//EN
X-WR-TIMEZONE:US/Central
BEGIN:VEVENT
SUMMARY:All About Us: A Guided Hike
DTSTART;TZID=US/Central;VALUE=DATE-TIME:20260228T100000
DTEND;TZID=US/Central;VALUE=DATE-TIME:20260228T110000
DTSTAMP;VALUE=DATE-TIME:20260420T175418Z
UID:5dfc478ac67448a6bdc65f1654641476
CONTACT:Jonathan Argo\, (979) 553-5124\, jonathan.argo@tpwd.texas.gov
CREATED;VALUE=DATE-TIME:20220617T161544Z
DESCRIPTION:Join us to experience the park like it's your first time\, on 
 our Creekfield Lake Trail.
LAST-MODIFIED;VALUE=DATE-TIME:20260330T170803Z
URL:https://tpwd.texas.gov/calendar/brazos-bend/all-about-us_01-10-26/2026
 -02-28
END:VEVENT
BEGIN:VTIMEZONE
TZID:US/Central
X-LIC-LOCATION:US/Central
BEGIN:STANDARD
DTSTART;VALUE=DATE-TIME:20251102T010000
TZNAME:CST
TZOFFSETFROM:-0500
TZOFFSETTO:-0600
END:STANDARD
END:VTIMEZONE
END:VCALENDAR
