BEGIN:VCALENDAR
VERSION:2.0
PRODID:-//Plone.org//NONSGML plone.app.event//EN
X-WR-TIMEZONE:US/Central
BEGIN:VEVENT
SUMMARY:B.A.R.K. Ranger Hike
DTSTART;TZID=US/Central;VALUE=DATE-TIME:20260321T090000
DTEND;TZID=US/Central;VALUE=DATE-TIME:20260321T100000
DTSTAMP;VALUE=DATE-TIME:20260420T091038Z
UID:034cab04f68c49049e571f968f32fb0f
CONTACT:Jessica Bullard\, (979) 553-5123\, jessica.bullard@tpwd.texas.gov
CREATED;VALUE=DATE-TIME:20250828T163641Z
DESCRIPTION:Bring your furry friend along for a light hike in the park!
LAST-MODIFIED;VALUE=DATE-TIME:20260313T141116Z
URL:https://tpwd.texas.gov/calendar/brazos-bend/bark-ranger-hike_02-01-26/
 2026-03-21
END:VEVENT
BEGIN:VTIMEZONE
TZID:US/Central
X-LIC-LOCATION:US/Central
BEGIN:DAYLIGHT
DTSTART;VALUE=DATE-TIME:20260308T030000
TZNAME:CDT
TZOFFSETFROM:-0600
TZOFFSETTO:-0500
END:DAYLIGHT
END:VTIMEZONE
END:VCALENDAR
