BEGIN:VCALENDAR
VERSION:2.0
PRODID:-//Plone.org//NONSGML plone.app.event//EN
X-WR-TIMEZONE:US/Central
BEGIN:VEVENT
SUMMARY:Birding Hike
DTSTART;TZID=US/Central;VALUE=DATE-TIME:20260503T080000
DTEND;TZID=US/Central;VALUE=DATE-TIME:20260503T100000
DTSTAMP;VALUE=DATE-TIME:20260420T165315Z
UID:d69220adb911488ab8f0c55c7bc55b81
CONTACT:Jessica Bullard\, (979) 553-5123\, jessica.bullard@tpwd.texas.gov
CREATED;VALUE=DATE-TIME:20210108T174117Z
DESCRIPTION:Brazos Bend State Park is home to over 300 species of birds ma
 king it the perfect place to bird-watch all year round!
LAST-MODIFIED;VALUE=DATE-TIME:20251122T165223Z
URL:https://tpwd.texas.gov/calendar/brazos-bend/birding-hike_all-26/2026-0
 5-03
END:VEVENT
BEGIN:VTIMEZONE
TZID:US/Central
X-LIC-LOCATION:US/Central
BEGIN:DAYLIGHT
DTSTART;VALUE=DATE-TIME:20260308T030000
TZNAME:CDT
TZOFFSETFROM:-0600
TZOFFSETTO:-0500
END:DAYLIGHT
END:VTIMEZONE
END:VCALENDAR
