BEGIN:VCALENDAR
VERSION:2.0
PRODID:-//Plone.org//NONSGML plone.app.event//EN
X-WR-TIMEZONE:US/Central
BEGIN:VEVENT
SUMMARY:*CANCELLED* Twilight-Night Hike
DTSTART;TZID=US/Central;VALUE=DATE-TIME:20251025T180000
DTEND;TZID=US/Central;VALUE=DATE-TIME:20251025T193000
DTSTAMP;VALUE=DATE-TIME:20260420T055626Z
UID:b0be728b0412406d992429f21c623035
CONTACT:Jessica Bullard\, (979) 553-5123\, jessica.bullard@tpwd.texas.gov
CREATED;VALUE=DATE-TIME:20230630T164305Z
DESCRIPTION:Join us for a walk to learn about the night life of the park!
LAST-MODIFIED;VALUE=DATE-TIME:20251024T180042Z
URL:https://tpwd.texas.gov/calendar/brazos-bend/copy_of_twilight-night-hik
 e_08-08-25
END:VEVENT
BEGIN:VTIMEZONE
TZID:US/Central
X-LIC-LOCATION:US/Central
BEGIN:DAYLIGHT
DTSTART;VALUE=DATE-TIME:20250309T030000
TZNAME:CDT
TZOFFSETFROM:-0600
TZOFFSETTO:-0500
END:DAYLIGHT
END:VTIMEZONE
END:VCALENDAR
