BEGIN:VCALENDAR
VERSION:2.0
PRODID:-//Plone.org//NONSGML plone.app.event//EN
X-WR-TIMEZONE:US/Central
BEGIN:VEVENT
SUMMARY:First Day Hike 2026
DTSTART;TZID=US/Central;VALUE=DATE-TIME:20260101T080000
DTEND;TZID=US/Central;VALUE=DATE-TIME:20260101T120000
DTSTAMP;VALUE=DATE-TIME:20260419T184257Z
UID:8d7c3eee19374d0cbc54a9c107ba669b
CONTACT:Jessica Bullard\, (979) 553-5123\, jessica.bullard@tpwd.texas.gov
CREATED;VALUE=DATE-TIME:20211209T161731Z
DESCRIPTION:Start the New Year off on the right foot and join in the annua
 l First Day Hike at Brazos Bend State Park!
LAST-MODIFIED;VALUE=DATE-TIME:20251204T194756Z
URL:https://tpwd.texas.gov/calendar/brazos-bend/first-day-hike_01-01-26
END:VEVENT
BEGIN:VTIMEZONE
TZID:US/Central
X-LIC-LOCATION:US/Central
BEGIN:STANDARD
DTSTART;VALUE=DATE-TIME:20251102T010000
TZNAME:CST
TZOFFSETFROM:-0500
TZOFFSETTO:-0600
END:STANDARD
END:VTIMEZONE
END:VCALENDAR
