BEGIN:VCALENDAR
VERSION:2.0
PRODID:-//Plone.org//NONSGML plone.app.event//EN
X-WR-TIMEZONE:US/Central
BEGIN:VEVENT
SUMMARY:Hummingbird Banding
DTSTART;TZID=US/Central;VALUE=DATE-TIME:20250928T083000
DTEND;TZID=US/Central;VALUE=DATE-TIME:20250928T093000
DTSTAMP;VALUE=DATE-TIME:20260420T080338Z
UID:39c7e4c042d8462f873e5dafbfa312a6
CONTACT:Jessica Bullard\, (979) 553-5122\, jessica.bullard@tpwd.texas.gov
CREATED;VALUE=DATE-TIME:20220617T163048Z
DESCRIPTION:Join us while we count and catalogue some of our quickest litt
 le birds!
LAST-MODIFIED;VALUE=DATE-TIME:20250811T201724Z
URL:https://tpwd.texas.gov/calendar/brazos-bend/hummingbird-banding_09-28-
 25
END:VEVENT
BEGIN:VTIMEZONE
TZID:US/Central
X-LIC-LOCATION:US/Central
BEGIN:DAYLIGHT
DTSTART;VALUE=DATE-TIME:20250309T030000
TZNAME:CDT
TZOFFSETFROM:-0600
TZOFFSETTO:-0500
END:DAYLIGHT
END:VTIMEZONE
END:VCALENDAR
