BEGIN:VCALENDAR
VERSION:2.0
PRODID:-//Plone.org//NONSGML plone.app.event//EN
X-WR-TIMEZONE:US/Central
BEGIN:VEVENT
SUMMARY:Where the Mastodon Roamed
DTSTART;TZID=US/Central;VALUE=DATE-TIME:20260222T130000
DTEND;TZID=US/Central;VALUE=DATE-TIME:20260222T140000
DTSTAMP;VALUE=DATE-TIME:20260420T051945Z
UID:5f1daaeb2d5b4f17b21e931505ebca71
CONTACT:Jessica Bullard\, (979) 553-5123\, jessica.bullard@tpwd.texas.gov
CREATED;VALUE=DATE-TIME:20251030T165114Z
DESCRIPTION:Discover what Brazos Bend was like during the Ice Age!
LAST-MODIFIED;VALUE=DATE-TIME:20260208T174623Z
URL:https://tpwd.texas.gov/calendar/brazos-bend/ice-age-at-BBSP_11-15-25
END:VEVENT
BEGIN:VTIMEZONE
TZID:US/Central
X-LIC-LOCATION:US/Central
BEGIN:STANDARD
DTSTART;VALUE=DATE-TIME:20251102T010000
TZNAME:CST
TZOFFSETFROM:-0500
TZOFFSETTO:-0600
END:STANDARD
END:VTIMEZONE
END:VCALENDAR
