BEGIN:VCALENDAR
VERSION:2.0
PRODID:-//Plone.org//NONSGML plone.app.event//EN
X-WR-TIMEZONE:US/Central
BEGIN:VEVENT
SUMMARY:Veteran Suicide Awareness March 2025
DTSTART;TZID=US/Central;VALUE=DATE-TIME:20250906T080000
DTEND;TZID=US/Central;VALUE=DATE-TIME:20250906T120000
DTSTAMP;VALUE=DATE-TIME:20260420T070030Z
UID:9be1a02441af46c88b7d6da3c5c7da39
CONTACT:Patrisia Loredo\, (979) 553-5101\, patrisia.loredo@tpwd.texas.gov
CREATED;VALUE=DATE-TIME:20211209T161731Z
DESCRIPTION:Join us in bringing awareness to the plight of those who have 
 served our country!
LAST-MODIFIED;VALUE=DATE-TIME:20250828T162434Z
URL:https://tpwd.texas.gov/calendar/brazos-bend/veteran-awareness-march_09
 -06-25
END:VEVENT
BEGIN:VTIMEZONE
TZID:US/Central
X-LIC-LOCATION:US/Central
BEGIN:DAYLIGHT
DTSTART;VALUE=DATE-TIME:20250309T030000
TZNAME:CDT
TZOFFSETFROM:-0600
TZOFFSETTO:-0500
END:DAYLIGHT
END:VTIMEZONE
END:VCALENDAR
