BEGIN:VCALENDAR
VERSION:2.0
PRODID:-//Plone.org//NONSGML plone.app.event//EN
X-WR-TIMEZONE:US/Central
BEGIN:VEVENT
SUMMARY:Learn to Fish with an Angler Instructor!
DTSTART;TZID=US/Central;VALUE=DATE-TIME:20260307T090000
DTEND;TZID=US/Central;VALUE=DATE-TIME:20260307T110000
DTSTAMP;VALUE=DATE-TIME:20260420T064828Z
UID:cc0675834097457992f50bb6c82e084d
CONTACT:Madalyn Miller\, madalyn.miller@tpwd.texas.gov
CREATED;VALUE=DATE-TIME:20250703T210839Z
DESCRIPTION:Learn how to cast a line at Buescher Lake!
LAST-MODIFIED;VALUE=DATE-TIME:20260306T225355Z
URL:https://tpwd.texas.gov/calendar/buescher/fish-with-a-ranger/2026-03-07
END:VEVENT
BEGIN:VTIMEZONE
TZID:US/Central
X-LIC-LOCATION:US/Central
BEGIN:STANDARD
DTSTART;VALUE=DATE-TIME:20251102T010000
TZNAME:CST
TZOFFSETFROM:-0500
TZOFFSETTO:-0600
END:STANDARD
END:VTIMEZONE
END:VCALENDAR
