BEGIN:VCALENDAR
VERSION:2.0
PRODID:-//Plone.org//NONSGML plone.app.event//EN
X-WR-TIMEZONE:US/Central
BEGIN:VEVENT
SUMMARY:Canceled - I Lichen You a Lot!
DTSTART;TZID=US/Central;VALUE=DATE-TIME:20260214T150000
DTEND;TZID=US/Central;VALUE=DATE-TIME:20260214T160000
DTSTAMP;VALUE=DATE-TIME:20260420T022749Z
UID:4f39987f10e34716b6d3ba07abab19dc
CONTACT:Madalyn Miller\, madalyn.miller@tpwd.texas.gov
CREATED;VALUE=DATE-TIME:20200214T215349Z
DESCRIPTION:Canceled due to inclement weather - Talk about #RelationshipGo
 als!  Get a close look at these tiny power couples and learn how they make
  their relationship work and thrive!  Then use them as inspiration to colo
 r your own lichen power couple Valentines card masterpiece!
LAST-MODIFIED;VALUE=DATE-TIME:20260214T203216Z
URL:https://tpwd.texas.gov/calendar/buescher/i-lichen-you-a-lot
END:VEVENT
BEGIN:VTIMEZONE
TZID:US/Central
X-LIC-LOCATION:US/Central
BEGIN:STANDARD
DTSTART;VALUE=DATE-TIME:20251102T010000
TZNAME:CST
TZOFFSETFROM:-0500
TZOFFSETTO:-0600
END:STANDARD
END:VTIMEZONE
END:VCALENDAR
