BEGIN:VCALENDAR
VERSION:2.0
PRODID:-//Plone.org//NONSGML plone.app.event//EN
X-WR-TIMEZONE:US/Central
BEGIN:VEVENT
SUMMARY:Bug Eats Bug - Master Naturalist Guided Hike
DTSTART;TZID=US/Central;VALUE=DATE-TIME:20251011T100000
DTEND;TZID=US/Central;VALUE=DATE-TIME:20251011T113000
DTSTAMP;VALUE=DATE-TIME:20260419T213739Z
UID:79401c2e43fc49778c46642f106be4d7
CONTACT:Madalyn Miller\, madalyn.miller@tpwd.texas.gov
CREATED;VALUE=DATE-TIME:20181003T182623Z
DESCRIPTION:Join a Texas Master Naturalist to find out how it's a bug-eat-
 bug world out there! Explore the world of tiny predators and tiny prey\; h
 ow they see and how they slay!
LAST-MODIFIED;VALUE=DATE-TIME:20250912T215128Z
URL:https://tpwd.texas.gov/calendar/buescher/man-vs-insect-who-could-survi
 ve
END:VEVENT
BEGIN:VTIMEZONE
TZID:US/Central
X-LIC-LOCATION:US/Central
BEGIN:DAYLIGHT
DTSTART;VALUE=DATE-TIME:20250309T030000
TZNAME:CDT
TZOFFSETFROM:-0600
TZOFFSETTO:-0500
END:DAYLIGHT
END:VTIMEZONE
END:VCALENDAR
