BEGIN:VCALENDAR
VERSION:2.0
PRODID:-//Plone.org//NONSGML plone.app.event//EN
X-WR-TIMEZONE:US/Central
BEGIN:VEVENT
SUMMARY:Native Plants Education Station
DTSTART;TZID=US/Central;VALUE=DATE-TIME:20250405T091500
DTEND;TZID=US/Central;VALUE=DATE-TIME:20250405T100000
DTSTAMP;VALUE=DATE-TIME:20260420T145735Z
UID:0d6ac5686ac94362a0a68e5a98aedb3b
CONTACT:Madalyn Miller\, (512) 718-0211\, madalyn.miller@tpwd.texas.gov
CREATED;VALUE=DATE-TIME:20241031T204049Z
DESCRIPTION:Stop by to learn about the many benefits of wildscaping your y
 ard with native plants!
LAST-MODIFIED;VALUE=DATE-TIME:20250228T224351Z
URL:https://tpwd.texas.gov/calendar/buescher/native-plants-education-stati
 on/2025-04-05
END:VEVENT
BEGIN:VTIMEZONE
TZID:US/Central
X-LIC-LOCATION:US/Central
BEGIN:DAYLIGHT
DTSTART;VALUE=DATE-TIME:20250309T030000
TZNAME:CDT
TZOFFSETFROM:-0600
TZOFFSETTO:-0500
END:DAYLIGHT
END:VTIMEZONE
END:VCALENDAR
