BEGIN:VCALENDAR
VERSION:2.0
PRODID:-//Plone.org//NONSGML plone.app.event//EN
X-WR-TIMEZONE:US/Central
BEGIN:VEVENT
SUMMARY:Music in the Park
DTSTART;TZID=US/Central;VALUE=DATE-TIME:20260509T183000
DTEND;TZID=US/Central;VALUE=DATE-TIME:20260509T193000
DTSTAMP;VALUE=DATE-TIME:20260421T105048Z
UID:f55b8d2f437449e3ae8e37e0f1ec4976
CONTACT:Natalie Rebekah-Clark Smith\, natalie.smith@tpwd.texas.gov
CREATED;VALUE=DATE-TIME:20260227T174117Z
DESCRIPTION:Music in the park featuring Roger Martin/ Dirt Storm Drifters
LAST-MODIFIED;VALUE=DATE-TIME:20260227T174132Z
URL:https://tpwd.texas.gov/calendar/caprock-canyons/music-in-the-park-1
END:VEVENT
BEGIN:VTIMEZONE
TZID:US/Central
X-LIC-LOCATION:US/Central
BEGIN:DAYLIGHT
DTSTART;VALUE=DATE-TIME:20260308T030000
TZNAME:CDT
TZOFFSETFROM:-0600
TZOFFSETTO:-0500
END:DAYLIGHT
END:VTIMEZONE
END:VCALENDAR
