BEGIN:VCALENDAR
VERSION:2.0
PRODID:-//Plone.org//NONSGML plone.app.event//EN
X-WR-TIMEZONE:US/Central
BEGIN:VEVENT
SUMMARY:Christmas on the Farm
DTSTART;TZID=US/Central;VALUE=DATE-TIME:20251213T100000
DTEND;TZID=US/Central;VALUE=DATE-TIME:20251213T140000
DTSTAMP;VALUE=DATE-TIME:20260420T082546Z
UID:736813c2577248199cc1844a87586b81
CONTACT:Will McDaniel\, (214) 738-2397\, thomas.mcdaniel@tpwd.texas.gov
CREATED;VALUE=DATE-TIME:20251128T161635Z
DESCRIPTION:Celebrate Winter with tours\, games\, hot chocolate\, s'mores\
 , and more!
LAST-MODIFIED;VALUE=DATE-TIME:20251128T200214Z
URL:https://tpwd.texas.gov/calendar/cedar-hill/christmas-on-the-farm-1
END:VEVENT
BEGIN:VTIMEZONE
TZID:US/Central
X-LIC-LOCATION:US/Central
BEGIN:STANDARD
DTSTART;VALUE=DATE-TIME:20251102T010000
TZNAME:CST
TZOFFSETFROM:-0500
TZOFFSETTO:-0600
END:STANDARD
END:VTIMEZONE
END:VCALENDAR
