BEGIN:VCALENDAR
VERSION:2.0
PRODID:-//Plone.org//NONSGML plone.app.event//EN
X-WR-TIMEZONE:US/Central
BEGIN:VEVENT
SUMMARY:March Full Moon Hike
DTSTART;TZID=US/Central;VALUE=DATE-TIME:20260303T190000
DTEND;TZID=US/Central;VALUE=DATE-TIME:20260303T200000
DTSTAMP;VALUE=DATE-TIME:20260419T181921Z
UID:c24f1b654f34404287e3edde5638bb32
CONTACT:Will McDaniel\, (214) 738-2397\, thomas.mcdaniel@tpwd.texas.gov
CREATED;VALUE=DATE-TIME:20251122T213459Z
DESCRIPTION:Join us for a Full Moon Hike under the March Worm Moon!
LAST-MODIFIED;VALUE=DATE-TIME:20260223T182716Z
URL:https://tpwd.texas.gov/calendar/cedar-hill/copy3_of_december-full-moon
 -hike
END:VEVENT
BEGIN:VTIMEZONE
TZID:US/Central
X-LIC-LOCATION:US/Central
BEGIN:STANDARD
DTSTART;VALUE=DATE-TIME:20251102T010000
TZNAME:CST
TZOFFSETFROM:-0500
TZOFFSETTO:-0600
END:STANDARD
END:VTIMEZONE
END:VCALENDAR
