BEGIN:VCALENDAR
VERSION:2.0
PRODID:-//Plone.org//NONSGML plone.app.event//EN
X-WR-TIMEZONE:US/Central
BEGIN:VEVENT
SUMMARY:July Full Moon Hike
DTSTART;TZID=US/Central;VALUE=DATE-TIME:20250709T200000
DTEND;TZID=US/Central;VALUE=DATE-TIME:20250709T210000
DTSTAMP;VALUE=DATE-TIME:20260419T162534Z
UID:a7dcce1e51234050b468364ae8be750f
CONTACT:Will McDaniel\, (214) 738-2397\, thomas.mcdaniel@tpwd.texas.gov
CREATED;VALUE=DATE-TIME:20250125T223952Z
DESCRIPTION:Join us for a Full Moon Hike under the July Buck Moon!
LAST-MODIFIED;VALUE=DATE-TIME:20250620T162948Z
URL:https://tpwd.texas.gov/calendar/cedar-hill/copy3_of_february-full-moon
 -hike
END:VEVENT
BEGIN:VTIMEZONE
TZID:US/Central
X-LIC-LOCATION:US/Central
BEGIN:DAYLIGHT
DTSTART;VALUE=DATE-TIME:20250309T030000
TZNAME:CDT
TZOFFSETFROM:-0600
TZOFFSETTO:-0500
END:DAYLIGHT
END:VTIMEZONE
END:VCALENDAR
