BEGIN:VCALENDAR
VERSION:2.0
PRODID:-//Plone.org//NONSGML plone.app.event//EN
X-WR-TIMEZONE:US/Central
BEGIN:VEVENT
SUMMARY:Summer Bark at the Park
DTSTART;TZID=US/Central;VALUE=DATE-TIME:20250726T090000
DTEND;TZID=US/Central;VALUE=DATE-TIME:20250726T110000
DTSTAMP;VALUE=DATE-TIME:20260420T065802Z
UID:490b95403736490f81504ff1aec2fc03
CONTACT:Will McDaniel\, (214) 738-2397\, thomas.mcdaniel@tpwd.texas.gov
CREATED;VALUE=DATE-TIME:20250326T170201Z
DESCRIPTION:Bring your pup for a summertime walk along the lake!
LAST-MODIFIED;VALUE=DATE-TIME:20250620T193412Z
URL:https://tpwd.texas.gov/calendar/cedar-hill/copy_of_bluebonnet-bark-at-
 the-park
END:VEVENT
BEGIN:VTIMEZONE
TZID:US/Central
X-LIC-LOCATION:US/Central
BEGIN:DAYLIGHT
DTSTART;VALUE=DATE-TIME:20250309T030000
TZNAME:CDT
TZOFFSETFROM:-0600
TZOFFSETTO:-0500
END:DAYLIGHT
END:VTIMEZONE
END:VCALENDAR
