BEGIN:VCALENDAR
VERSION:2.0
PRODID:-//Plone.org//NONSGML plone.app.event//EN
X-WR-TIMEZONE:US/Central
BEGIN:VEVENT
SUMMARY:November Full Moon Hike
DTSTART;TZID=US/Central;VALUE=DATE-TIME:20251105T173000
DTEND;TZID=US/Central;VALUE=DATE-TIME:20251105T183000
DTSTAMP;VALUE=DATE-TIME:20260419T183013Z
UID:68205ba8591e401da407dc05b1844618
CONTACT:Will McDaniel\, (214) 738-2397\, thomas.mcdaniel@tpwd.texas.gov
CREATED;VALUE=DATE-TIME:20250925T180726Z
DESCRIPTION:Join us for a Full Moon Hike under the November Beaver Moon!
LAST-MODIFIED;VALUE=DATE-TIME:20251028T190802Z
URL:https://tpwd.texas.gov/calendar/cedar-hill/copy_of_october-full-moon-h
 ike
END:VEVENT
BEGIN:VTIMEZONE
TZID:US/Central
X-LIC-LOCATION:US/Central
BEGIN:STANDARD
DTSTART;VALUE=DATE-TIME:20251102T010000
TZNAME:CST
TZOFFSETFROM:-0500
TZOFFSETTO:-0600
END:STANDARD
END:VTIMEZONE
END:VCALENDAR
