BEGIN:VCALENDAR
VERSION:2.0
PRODID:-//Plone.org//NONSGML plone.app.event//EN
X-WR-TIMEZONE:US/Central
BEGIN:VEVENT
SUMMARY:Penn Farm Tour
DTSTART;TZID=US/Central;VALUE=DATE-TIME:20251108T100000
DTEND;TZID=US/Central;VALUE=DATE-TIME:20251108T110000
DTSTAMP;VALUE=DATE-TIME:20260420T062949Z
UID:8cccba0db01548ddb415fe8c972cfb1f
CONTACT:Will McDaniel\, (214) 738-2397\, thomas.mcdaniel@tpwd.texas.gov
CREATED;VALUE=DATE-TIME:20250925T175420Z
DESCRIPTION:Living life on the Texas prairie was always an adventure!
LAST-MODIFIED;VALUE=DATE-TIME:20251028T193348Z
URL:https://tpwd.texas.gov/calendar/cedar-hill/copy_of_penn-farm-tour-1
END:VEVENT
BEGIN:VTIMEZONE
TZID:US/Central
X-LIC-LOCATION:US/Central
BEGIN:STANDARD
DTSTART;VALUE=DATE-TIME:20251102T010000
TZNAME:CST
TZOFFSETFROM:-0500
TZOFFSETTO:-0600
END:STANDARD
END:VTIMEZONE
END:VCALENDAR
