BEGIN:VCALENDAR
VERSION:2.0
PRODID:-//Plone.org//NONSGML plone.app.event//EN
X-WR-TIMEZONE:US/Central
BEGIN:VEVENT
SUMMARY:Trees to Meet You! Activity Walk
DTSTART;TZID=US/Central;VALUE=DATE-TIME:20241109T090000
DTEND;TZID=US/Central;VALUE=DATE-TIME:20241109T103000
DTSTAMP;VALUE=DATE-TIME:20260420T012644Z
UID:36272f1b662a411c9934389cb3b8fa08
CONTACT:Thomas Williford McDaniel\, (214) 738-2397\, thomas.mcdaniel@tpwd.
 texas.gov
CREATED;VALUE=DATE-TIME:20241023T162857Z
DESCRIPTION:Learn the stories of our local trees and take home some leaf r
 ubbings!
LAST-MODIFIED;VALUE=DATE-TIME:20241023T163329Z
URL:https://tpwd.texas.gov/calendar/cedar-hill/trees-to-meet-you-activity-
 walk
END:VEVENT
BEGIN:VTIMEZONE
TZID:US/Central
X-LIC-LOCATION:US/Central
BEGIN:STANDARD
DTSTART;VALUE=DATE-TIME:20241103T010000
TZNAME:CST
TZOFFSETFROM:-0500
TZOFFSETTO:-0600
END:STANDARD
END:VTIMEZONE
END:VCALENDAR
