BEGIN:VCALENDAR
VERSION:2.0
PRODID:-//Plone.org//NONSGML plone.app.event//EN
X-WR-TIMEZONE:US/Central
BEGIN:VEVENT
SUMMARY:Batty About Bats
DTSTART;TZID=US/Central;VALUE=DATE-TIME:20250727T093000
DTEND;TZID=US/Central;VALUE=DATE-TIME:20250727T103000
DTSTAMP;VALUE=DATE-TIME:20260420T200725Z
UID:f1080a8e04bf465dbab0abe96f6547d5
CONTACT:Frank Barrientez\, (512) 734-0329\, frank.barrientez@tpwd.texas.go
 v
CREATED;VALUE=DATE-TIME:20250613T183804Z
DESCRIPTION:Learn about the importance of bats here in Texas!
LAST-MODIFIED;VALUE=DATE-TIME:20250613T183923Z
URL:https://tpwd.texas.gov/calendar/colorado-bend/batty-about-bats-1/2025-
 07-27
END:VEVENT
BEGIN:VTIMEZONE
TZID:US/Central
X-LIC-LOCATION:US/Central
BEGIN:DAYLIGHT
DTSTART;VALUE=DATE-TIME:20250309T030000
TZNAME:CDT
TZOFFSETFROM:-0600
TZOFFSETTO:-0500
END:DAYLIGHT
END:VTIMEZONE
END:VCALENDAR
