BEGIN:VCALENDAR
VERSION:2.0
PRODID:-//Plone.org//NONSGML plone.app.event//EN
X-WR-TIMEZONE:US/Central
BEGIN:VEVENT
SUMMARY:Caves 'n Karst
DTSTART;TZID=US/Central;VALUE=DATE-TIME:20250628T100000
DTEND;TZID=US/Central;VALUE=DATE-TIME:20250628T111500
DTSTAMP;VALUE=DATE-TIME:20260420T014428Z
UID:5677fe0c265142e0b77ce27a3ad56f3f
RRULE:FREQ=DAILY;COUNT=1
RDATE;TZID=US/Central:20250713T000000
CONTACT:Frank Barrientez\, (512) 734-0329\, frank.barrientez@tpwd.texas.go
 v
CREATED;VALUE=DATE-TIME:20250612T173024Z
DESCRIPTION:Learn about the geology that formed Colorado Bend State Park
LAST-MODIFIED;VALUE=DATE-TIME:20250620T201134Z
URL:https://tpwd.texas.gov/calendar/colorado-bend/caves-n-karst-1
END:VEVENT
BEGIN:VTIMEZONE
TZID:US/Central
X-LIC-LOCATION:US/Central
BEGIN:DAYLIGHT
DTSTART;VALUE=DATE-TIME:20250309T030000
TZNAME:CDT
TZOFFSETFROM:-0600
TZOFFSETTO:-0500
END:DAYLIGHT
END:VTIMEZONE
END:VCALENDAR
