BEGIN:VCALENDAR
VERSION:2.0
PRODID:-//Plone.org//NONSGML plone.app.event//EN
X-WR-TIMEZONE:US/Central
BEGIN:VEVENT
SUMMARY:Caves 'n Karst
DTSTART;TZID=US/Central;VALUE=DATE-TIME:20251004T093000
DTEND;TZID=US/Central;VALUE=DATE-TIME:20251004T103000
DTSTAMP;VALUE=DATE-TIME:20260419T233601Z
UID:05575e2c5d8b4bec92a776d38267b751
CONTACT:Frank Barrientez\, (512) 734-0329\, frank.barrientez@tpwd.texas.go
 v
CREATED;VALUE=DATE-TIME:20251003T194239Z
DESCRIPTION:Learn about the geology that formed Colorado Bend State Park
LAST-MODIFIED;VALUE=DATE-TIME:20251003T203213Z
URL:https://tpwd.texas.gov/calendar/colorado-bend/caves-n-karst-3
END:VEVENT
BEGIN:VTIMEZONE
TZID:US/Central
X-LIC-LOCATION:US/Central
BEGIN:DAYLIGHT
DTSTART;VALUE=DATE-TIME:20250309T030000
TZNAME:CDT
TZOFFSETFROM:-0600
TZOFFSETTO:-0500
END:DAYLIGHT
END:VTIMEZONE
END:VCALENDAR
