BEGIN:VCALENDAR
VERSION:2.0
PRODID:-//Plone.org//NONSGML plone.app.event//EN
X-WR-TIMEZONE:US/Central
BEGIN:VEVENT
SUMMARY:Caves 'n Karst
DTSTART;TZID=US/Central;VALUE=DATE-TIME:20250307T140000
DTEND;TZID=US/Central;VALUE=DATE-TIME:20250307T143000
DTSTAMP;VALUE=DATE-TIME:20260419T174246Z
UID:af9871d8ac464c2d9ad0befd319008d1
RRULE:FREQ=WEEKLY;COUNT=3;BYDAY=FR
CONTACT:Frank Barrientez\, (512) 734-0329\, frank.barrientez@tpwd.texas.go
 v
CREATED;VALUE=DATE-TIME:20250301T184535Z
DESCRIPTION:Learn about the geology that formed Colorado Bend State Park
LAST-MODIFIED;VALUE=DATE-TIME:20250301T190155Z
URL:https://tpwd.texas.gov/calendar/colorado-bend/caves-n-karst
END:VEVENT
BEGIN:VTIMEZONE
TZID:US/Central
X-LIC-LOCATION:US/Central
BEGIN:STANDARD
DTSTART;VALUE=DATE-TIME:20241103T010000
TZNAME:CST
TZOFFSETFROM:-0500
TZOFFSETTO:-0600
END:STANDARD
END:VTIMEZONE
END:VCALENDAR
