BEGIN:VCALENDAR
VERSION:2.0
PRODID:-//Plone.org//NONSGML plone.app.event//EN
X-WR-TIMEZONE:US/Central
BEGIN:VEVENT
SUMMARY:Campfire 101
DTSTART;TZID=US/Central;VALUE=DATE-TIME:20260118T100000
DTEND;TZID=US/Central;VALUE=DATE-TIME:20260118T110000
DTSTAMP;VALUE=DATE-TIME:20260419T202019Z
UID:cde63a1ebac64795af61fd5749cdfb75
CONTACT:Alicia O'Connor\, (903) 395-3100\, alicia.o'connor@tpwd.texas.gov
CREATED;VALUE=DATE-TIME:20251220T213208Z
DESCRIPTION:Tips and tricks to building a campfire.
LAST-MODIFIED;VALUE=DATE-TIME:20251220T213247Z
URL:https://tpwd.texas.gov/calendar/cooper-lake-doctors-creek/campfire-101
END:VEVENT
BEGIN:VTIMEZONE
TZID:US/Central
X-LIC-LOCATION:US/Central
BEGIN:STANDARD
DTSTART;VALUE=DATE-TIME:20251102T010000
TZNAME:CST
TZOFFSETFROM:-0500
TZOFFSETTO:-0600
END:STANDARD
END:VTIMEZONE
END:VCALENDAR
