BEGIN:VCALENDAR
VERSION:2.0
PRODID:-//Plone.org//NONSGML plone.app.event//EN
X-WR-TIMEZONE:US/Central
BEGIN:VEVENT
SUMMARY:Junior Ranger Day
DTSTART;TZID=US/Central;VALUE=DATE-TIME:20250815T143000
DTEND;TZID=US/Central;VALUE=DATE-TIME:20250815T153000
DTSTAMP;VALUE=DATE-TIME:20260420T080607Z
UID:11c783fefc2c4db5810d9141902af1c4
CONTACT:Madison Jones\, (903) 395-3100\, madison.jones@tpwd.texas.gov
CREATED;VALUE=DATE-TIME:20250726T150739Z
DESCRIPTION:Join a Ranger for a fun\, hands-on adventure to learn what it 
 takes to become a Junior Ranger!
LAST-MODIFIED;VALUE=DATE-TIME:20250726T150902Z
URL:https://tpwd.texas.gov/calendar/cooper-lake-doctors-creek/junior-range
 r-day
END:VEVENT
BEGIN:VTIMEZONE
TZID:US/Central
X-LIC-LOCATION:US/Central
BEGIN:DAYLIGHT
DTSTART;VALUE=DATE-TIME:20250309T030000
TZNAME:CDT
TZOFFSETFROM:-0600
TZOFFSETTO:-0500
END:DAYLIGHT
END:VTIMEZONE
END:VCALENDAR
