BEGIN:VCALENDAR
VERSION:2.0
PRODID:-//Plone.org//NONSGML plone.app.event//EN
X-WR-TIMEZONE:US/Central
BEGIN:VEVENT
SUMMARY:First Day Hike!
DTSTART;TZID=US/Central;VALUE=DATE-TIME:20260101T100000
DTEND;TZID=US/Central;VALUE=DATE-TIME:20260101T110000
DTSTAMP;VALUE=DATE-TIME:20260420T181827Z
UID:66b97af5c01a4b55a6c6815cac23c928
CONTACT:Alicia O'Connor\, (903) 945-5256\, alicia.o'connor@tpwd.texas.gov
CREATED;VALUE=DATE-TIME:20251102T210121Z
DESCRIPTION:Join us on New Year's Day to celebrate wellness in nature!
LAST-MODIFIED;VALUE=DATE-TIME:20251102T210138Z
URL:https://tpwd.texas.gov/calendar/cooper-lake-south-sulphur/first-day-hi
 ke
END:VEVENT
BEGIN:VTIMEZONE
TZID:US/Central
X-LIC-LOCATION:US/Central
BEGIN:STANDARD
DTSTART;VALUE=DATE-TIME:20251102T010000
TZNAME:CST
TZOFFSETFROM:-0500
TZOFFSETTO:-0600
END:STANDARD
END:VTIMEZONE
END:VCALENDAR
