BEGIN:VCALENDAR
VERSION:2.0
PRODID:-//Plone.org//NONSGML plone.app.event//EN
X-WR-TIMEZONE:US/Central
BEGIN:VEVENT
SUMMARY:Atlatl: Prehistoric Spear Throwing
DTSTART;TZID=US/Central;VALUE=DATE-TIME:20251129T153000
DTEND;TZID=US/Central;VALUE=DATE-TIME:20251129T161500
DTSTAMP;VALUE=DATE-TIME:20260419T232105Z
UID:edc935b8966e419985cc40da252a524d
CONTACT:Tyler Jamerson\, (940) 261-1623\, tyler.jamerson@tpwd.texas.gov
CREATED;VALUE=DATE-TIME:20180208T220706Z
DESCRIPTION:Before the bow and arrow\, there was the atlatl and dart. Join
  a park ranger to learn about this ancient hunting tool.
LAST-MODIFIED;VALUE=DATE-TIME:20251028T140909Z
URL:https://tpwd.texas.gov/calendar/copper-breaks/copy10_of_Atlatl%20Demon
 stration-9-30-23
END:VEVENT
BEGIN:VTIMEZONE
TZID:US/Central
X-LIC-LOCATION:US/Central
BEGIN:STANDARD
DTSTART;VALUE=DATE-TIME:20251102T010000
TZNAME:CST
TZOFFSETFROM:-0500
TZOFFSETTO:-0600
END:STANDARD
END:VTIMEZONE
END:VCALENDAR
