BEGIN:VCALENDAR
VERSION:2.0
PRODID:-//Plone.org//NONSGML plone.app.event//EN
X-WR-TIMEZONE:US/Central
BEGIN:VEVENT
SUMMARY:*Cancelled 11/22/25* Star Walk
DTSTART;TZID=US/Central;VALUE=DATE-TIME:20251122T190000
DTSTAMP;VALUE=DATE-TIME:20260419T213849Z
UID:9c3632c5a06e464baeb96e4db894e633
CONTACT:Tyler Jamerson\, (940) 261-1623\, tyler.jamerson@tpwd.texas.gov
CREATED;VALUE=DATE-TIME:20211229T203722Z
DESCRIPTION:*This event has been cancelled for 11/22/25* Observe the stars
  and planets through a telescope at Copper Breaks!
LAST-MODIFIED;VALUE=DATE-TIME:20251120T195610Z
URL:https://tpwd.texas.gov/calendar/copper-breaks/copy2_of_star-party-05-0
 8-24
END:VEVENT
BEGIN:VTIMEZONE
TZID:US/Central
X-LIC-LOCATION:US/Central
BEGIN:STANDARD
DTSTART;VALUE=DATE-TIME:20251102T010000
TZNAME:CST
TZOFFSETFROM:-0500
TZOFFSETTO:-0600
END:STANDARD
END:VTIMEZONE
END:VCALENDAR
