BEGIN:VCALENDAR
VERSION:2.0
PRODID:-//Plone.org//NONSGML plone.app.event//EN
X-WR-TIMEZONE:US/Central
BEGIN:VEVENT
SUMMARY:Meet The Longhorns
DTSTART;TZID=US/Central;VALUE=DATE-TIME:20251031T140000
DTSTAMP;VALUE=DATE-TIME:20260420T070923Z
UID:6c6cc1b193a448249fa408111f464bbf
RRULE:FREQ=WEEKLY;UNTIL=20301228T000000;BYDAY=FR,SA
RDATE;TZID=US/Central:20251012T000000
EXDATE;TZID=US/Central:20251114T000000,20251115T000000,20251205T000000,202
 51206T000000,20251219T000000,20251220T000000
CONTACT:John Miller\, (940) 839-4331\, x5\, john.miller@tpwd.texas.gov
CREATED;VALUE=DATE-TIME:20210402T162704Z
DESCRIPTION:Meet some of the official state longhorn herd!
LAST-MODIFIED;VALUE=DATE-TIME:20260327T154021Z
URL:https://tpwd.texas.gov/calendar/copper-breaks/copy_of_meet-the-longhor
 ns-march-23
END:VEVENT
BEGIN:VTIMEZONE
TZID:US/Central
X-LIC-LOCATION:US/Central
BEGIN:DAYLIGHT
DTSTART;VALUE=DATE-TIME:20250309T030000
TZNAME:CDT
TZOFFSETFROM:-0600
TZOFFSETTO:-0500
END:DAYLIGHT
END:VTIMEZONE
END:VCALENDAR
