BEGIN:VCALENDAR
VERSION:2.0
PRODID:-//Plone.org//NONSGML plone.app.event//EN
X-WR-TIMEZONE:US/Central
BEGIN:VEVENT
SUMMARY:Tech in Nature (Pokémon Go Hike)
DTSTART;TZID=US/Central;VALUE=DATE-TIME:20260411T140000
DTEND;TZID=US/Central;VALUE=DATE-TIME:20260411T150000
DTSTAMP;VALUE=DATE-TIME:20260419T131611Z
UID:e2f5c2e0686a4496901b8ac427920d7c
CONTACT:Lane Neely\, (903) 645-2921 Ext. 2055\, lane.neely@tpwd.texas.gov
CREATED;VALUE=DATE-TIME:20230310T184706Z
DESCRIPTION:Join a ranger to collect Pokémon and enjoy the outdoors!
LAST-MODIFIED;VALUE=DATE-TIME:20260329T141644Z
URL:https://tpwd.texas.gov/calendar/daingerfield/copy2_of_tech-in-the-outd
 oors
END:VEVENT
BEGIN:VTIMEZONE
TZID:US/Central
X-LIC-LOCATION:US/Central
BEGIN:DAYLIGHT
DTSTART;VALUE=DATE-TIME:20260308T030000
TZNAME:CDT
TZOFFSETFROM:-0600
TZOFFSETTO:-0500
END:DAYLIGHT
END:VTIMEZONE
END:VCALENDAR
