BEGIN:VCALENDAR
VERSION:2.0
PRODID:-//Plone.org//NONSGML plone.app.event//EN
X-WR-TIMEZONE:US/Central
BEGIN:VEVENT
SUMMARY:Flower Moon Hike
DTSTART;TZID=US/Central;VALUE=DATE-TIME:20241115T203000
DTEND;TZID=US/Central;VALUE=DATE-TIME:20241115T213000
DTSTAMP;VALUE=DATE-TIME:20260420T162901Z
UID:5a40484f98b04cc8aaf1b9c2187b9169
CONTACT:Charlie Ewing\, (432) 426-3337\, x2123\, charles.ewing@tpwd.texas.
 gov
CREATED;VALUE=DATE-TIME:20240423T195728Z
DESCRIPTION:Enjoy the April "Flower" moon rise on its fullest night during
  a hike along Skyline Drive Trail.
LAST-MODIFIED;VALUE=DATE-TIME:20260419T153934Z
URL:https://tpwd.texas.gov/calendar/davis-mountains/full-moonrise-hike/202
 4-11-15
END:VEVENT
BEGIN:VTIMEZONE
TZID:US/Central
X-LIC-LOCATION:US/Central
BEGIN:STANDARD
DTSTART;VALUE=DATE-TIME:20241103T010000
TZNAME:CST
TZOFFSETFROM:-0500
TZOFFSETTO:-0600
END:STANDARD
END:VTIMEZONE
END:VCALENDAR
