BEGIN:VCALENDAR
VERSION:2.0
PRODID:-//Plone.org//NONSGML plone.app.event//EN
X-WR-TIMEZONE:US/Central
BEGIN:VEVENT
SUMMARY:Junior Ranger Academy
DTSTART;TZID=US/Central;VALUE=DATE-TIME:20240928T140000
DTEND;TZID=US/Central;VALUE=DATE-TIME:20240928T150000
DTSTAMP;VALUE=DATE-TIME:20260420T082623Z
UID:36312094acbd4eb6bf907ab52ec833a0
CONTACT:Charlie Ewing\, (432) 426-3337\, x2123\, charles.ewing@tpwd.texas.
 gov
CREATED;VALUE=DATE-TIME:20240620T162249Z
DESCRIPTION:This fun\, ranger-led workshop is aimed for kids\, ages 5-12 (
 but open to all)\, who want to build their outdoor skills.
LAST-MODIFIED;VALUE=DATE-TIME:20251213T202629Z
URL:https://tpwd.texas.gov/calendar/davis-mountains/junior-ranger-academy/
 2024-09-28
END:VEVENT
BEGIN:VTIMEZONE
TZID:US/Central
X-LIC-LOCATION:US/Central
BEGIN:DAYLIGHT
DTSTART;VALUE=DATE-TIME:20240310T030000
TZNAME:CDT
TZOFFSETFROM:-0600
TZOFFSETTO:-0500
END:DAYLIGHT
END:VTIMEZONE
END:VCALENDAR
