BEGIN:VCALENDAR
VERSION:2.0
PRODID:-//Plone.org//NONSGML plone.app.event//EN
X-WR-TIMEZONE:US/Central
BEGIN:VEVENT
SUMMARY:Skyline Drive Geology Tour
DTSTART;TZID=US/Central;VALUE=DATE-TIME:20260226T090000
DTEND;TZID=US/Central;VALUE=DATE-TIME:20260226T103000
DTSTAMP;VALUE=DATE-TIME:20260420T091820Z
UID:9ad9000902e3422bb3a088cfc0fe142f
RRULE:FREQ=WEEKLY;COUNT=1;BYDAY=SA
RDATE;TZID=US/Central:20260312T000000,20260326T000000,20260409T000000,2026
 0423T000000
EXDATE;TZID=US/Central:20260228T000000
CONTACT:Charlie Ewing\, (432) 426-3337\, x2123\, charles.ewing@tpwd.texas.
 gov
CREATED;VALUE=DATE-TIME:20260204T170357Z
DESCRIPTION:Learn about our park's explosive past on this guided geology w
 alk.
LAST-MODIFIED;VALUE=DATE-TIME:20260411T201304Z
URL:https://tpwd.texas.gov/calendar/davis-mountains/skyline-drive-geology-
 tour
END:VEVENT
BEGIN:VTIMEZONE
TZID:US/Central
X-LIC-LOCATION:US/Central
BEGIN:STANDARD
DTSTART;VALUE=DATE-TIME:20251102T010000
TZNAME:CST
TZOFFSETFROM:-0500
TZOFFSETTO:-0600
END:STANDARD
END:VTIMEZONE
END:VCALENDAR
