BEGIN:VCALENDAR
VERSION:2.0
PRODID:-//Plone.org//NONSGML plone.app.event//EN
X-WR-TIMEZONE:US/Central
BEGIN:VEVENT
SUMMARY:Guided Hike to High Country Shelter
DTSTART;TZID=US/Central;VALUE=DATE-TIME:20260215T110000
DTEND;TZID=US/Central;VALUE=DATE-TIME:20260215T140000
DTSTAMP;VALUE=DATE-TIME:20260420T082754Z
UID:c19bd0f1996c441d9bdeb3c030bbc0d8
CONTACT:Nora Padilla\, (737) 289-3250\, nora.padilla@tpwd.texas.gov\, http
 s://www.facebook.com/DevilsRiverSNA
CREATED;VALUE=DATE-TIME:20260118T160143Z
DESCRIPTION:Step back into time and learn about the rock art at High Count
 ry Rock Shelter
LAST-MODIFIED;VALUE=DATE-TIME:20260206T225536Z
URL:https://tpwd.texas.gov/calendar/devils-river/guided-hike-to-high-count
 ry-shelter
END:VEVENT
BEGIN:VTIMEZONE
TZID:US/Central
X-LIC-LOCATION:US/Central
BEGIN:STANDARD
DTSTART;VALUE=DATE-TIME:20251102T010000
TZNAME:CST
TZOFFSETFROM:-0500
TZOFFSETTO:-0600
END:STANDARD
END:VTIMEZONE
END:VCALENDAR
