BEGIN:VCALENDAR
VERSION:2.0
PRODID:-//Plone.org//NONSGML plone.app.event//EN
X-WR-TIMEZONE:US/Central
BEGIN:VEVENT
SUMMARY:Guided Hike to Sunburst Shelter
DTSTART;TZID=US/Central;VALUE=DATE-TIME:20260110T100000
DTEND;TZID=US/Central;VALUE=DATE-TIME:20260110T130000
DTSTAMP;VALUE=DATE-TIME:20260420T045251Z
UID:85ebe338386746ddb19af73f9eeea7a8
CONTACT:Nora Padilla\, (737) 289-3250\, nora.padilla@tpwd.texas.gov\, http
 s://www.facebook.com/DevilsRiverSNA
CREATED;VALUE=DATE-TIME:20251218T175046Z
DESCRIPTION:Come on a guided hike to the past! Learn about the rock art at
  Sunburst Shelter.
LAST-MODIFIED;VALUE=DATE-TIME:20251218T193144Z
URL:https://tpwd.texas.gov/calendar/devils-river/guided-hike-to-sunburst-s
 helter-4
END:VEVENT
BEGIN:VTIMEZONE
TZID:US/Central
X-LIC-LOCATION:US/Central
BEGIN:STANDARD
DTSTART;VALUE=DATE-TIME:20251102T010000
TZNAME:CST
TZOFFSETFROM:-0500
TZOFFSETTO:-0600
END:STANDARD
END:VTIMEZONE
END:VCALENDAR
