BEGIN:VCALENDAR
VERSION:2.0
PRODID:-//Plone.org//NONSGML plone.app.event//EN
X-WR-TIMEZONE:US/Central
BEGIN:VEVENT
SUMMARY:Archery 101 (10+ yrs)
DTSTART;TZID=US/Central;VALUE=DATE-TIME:20260318T140000
DTEND;TZID=US/Central;VALUE=DATE-TIME:20260318T150000
DTSTAMP;VALUE=DATE-TIME:20260419T202044Z
UID:fdc3e0fc820d4cde86a1dacf4fbd52e0
CREATED;VALUE=DATE-TIME:20260305T175819Z
DESCRIPTION:Join rangers in learning about this primitive hunting techniqu
 e.
LAST-MODIFIED;VALUE=DATE-TIME:20260306T182848Z
URL:https://tpwd.texas.gov/calendar/dinosaur-valley/archery-101-10-yrs
END:VEVENT
BEGIN:VTIMEZONE
TZID:US/Central
X-LIC-LOCATION:US/Central
BEGIN:DAYLIGHT
DTSTART;VALUE=DATE-TIME:20260308T030000
TZNAME:CDT
TZOFFSETFROM:-0600
TZOFFSETTO:-0500
END:DAYLIGHT
END:VTIMEZONE
END:VCALENDAR
